BEGIN:VCALENDAR
VERSION:2.0
PRODID:-//Afro Hub - A dedicated hub to African talent. - ECPv4.6.18//NONSGML v1.0//EN
CALSCALE:GREGORIAN
METHOD:PUBLISH
X-WR-CALNAME:Afro Hub - A dedicated hub to African talent.
X-ORIGINAL-URL:https://afrohub727.com.au
X-WR-CALDESC:Events for Afro Hub - A dedicated hub to African talent.
BEGIN:VEVENT
DTSTART;TZID=UTC+11:20180324T190000
DTEND;TZID=UTC+11:20180324T230000
DTSTAMP:20190228T100337
CREATED:20180215T014040Z
LAST-MODIFIED:20180215T014040Z
UID:4883-1521918000-1521932400@afrohub727.com.au
SUMMARY:The Sounds of Garden of Eden
DESCRIPTION:Come Join us for an intimate and dynamic night showcasing the soulful sounds of the African community in Melbourne. Let us spellbind you with music and spoken word poetry performances from some of the best in Melbourne\, in the magical Garden of Eden. \n
URL:https://afrohub727.com.au/event/the-sounds-of-garden-of-eden/
ATTACH;FMTTYPE=image/png:https://afrohub727.com.au/wp-content/uploads/2018/02/facebook_event_560093107688939.png
END:VEVENT
END:VCALENDAR