BEGIN:VCALENDAR
VERSION:2.0
PRODID:-//Afro Hub - A dedicated hub to African talent. - ECPv4.6.18//NONSGML v1.0//EN
CALSCALE:GREGORIAN
METHOD:PUBLISH
X-WR-CALNAME:Afro Hub - A dedicated hub to African talent.
X-ORIGINAL-URL:https://afrohub727.com.au
X-WR-CALDESC:Events for Afro Hub - A dedicated hub to African talent.
BEGIN:VEVENT
DTSTART;TZID=UTC+11:20180204T130000
DTEND;TZID=UTC+11:20180204T180000
DTSTAMP:20190228T101912
CREATED:20180110T120558Z
LAST-MODIFIED:20180110T120558Z
UID:4871-1517749200-1517767200@afrohub727.com.au
SUMMARY:Summer Time Makeup Master Class
DESCRIPTION:Xceptional Makeup & Beauty in collaboration with Our Voices Inc. & Afro Hub present ‘Summer Time Makeup Master Class’. \nAn afternoon dedicated to all things beauty and skin care. \nJoin us as we show how to transform a day look into a night look\, with a step by step live makeup tutorial\, get insightful information on how to start up and maintain your business within the makeup world. \nThis event is perfect for beginners and professionals\, so invite your best friend\, mum\, sister\, cousins and colleagues because this event is all about YOU. Also\, don’t be afraid to come alone as you’ll have the chance to socialise and meet the other attendees and our team will welcome you with open arms. \nThis event encourages you to bring along your own makeup. If you’ve purchased makeup and have little to no idea how to use it\, now’s your time to bring it and be shown how to use it like a pro. As there will be a chance for Q&A’s. \n& of course it wouldn’t be a makeup master class without gift bags! \nSeating is limited\, ensure to grab a ticket before they run out. \nSee you then! \n
URL:https://afrohub727.com.au/event/summer-time-makeup-master-class/
ATTACH;FMTTYPE=image/jpeg:https://afrohub727.com.au/wp-content/uploads/2018/01/facebook_event_216789235533070.jpg
END:VEVENT
END:VCALENDAR