BEGIN:VCALENDAR
VERSION:2.0
PRODID:-//Afro Hub - A dedicated hub to African talent. - ECPv4.6.18//NONSGML v1.0//EN
CALSCALE:GREGORIAN
METHOD:PUBLISH
X-WR-CALNAME:Afro Hub - A dedicated hub to African talent.
X-ORIGINAL-URL:https://afrohub727.com.au
X-WR-CALDESC:Events for Afro Hub - A dedicated hub to African talent.
BEGIN:VEVENT
DTSTART;TZID=UTC+11:20171022T190000
DTEND;TZID=UTC+11:20171022T220000
DTSTAMP:20190228T104839
CREATED:20170929T093815Z
LAST-MODIFIED:20170929T093815Z
UID:4839-1508698800-1508709600@afrohub727.com.au
SUMMARY:Spit some Rhymes with TruSoule
DESCRIPTION:Come join TruSoulE at Afro Hub for Rap/Trap Jam session.  \nSolomon Salew is a Creative Artist proactive in theatre and musical circles in Melbourne \, Australia. Solomon’s drive and individuality spurs his craft into many platforms of expressive experimentation. \nDownload his single on Itunes https://itunes.apple.com/us/album/excuses-single/id1282420001?app=itunes&ign-mpt=uo%3D4  \nThere will be an open Mic section so bring your beats and rhymes. \n
URL:https://afrohub727.com.au/event/spit-some-rhymes-with-trusoule/
ATTACH;FMTTYPE=image/jpeg:https://afrohub727.com.au/wp-content/uploads/2017/09/facebook_event_165216547389100.jpg
END:VEVENT
END:VCALENDAR