BEGIN:VCALENDAR
VERSION:2.0
PRODID:-//Afro Hub - A dedicated hub to African talent. - ECPv4.6.18//NONSGML v1.0//EN
CALSCALE:GREGORIAN
METHOD:PUBLISH
X-WR-CALNAME:Afro Hub - A dedicated hub to African talent.
X-ORIGINAL-URL:https://afrohub727.com.au
X-WR-CALDESC:Events for Afro Hub - A dedicated hub to African talent.
BEGIN:VEVENT
DTSTART;TZID=UTC+11:20171223T180000
DTEND;TZID=UTC+11:20171224T000000
DTSTAMP:20190228T103334
CREATED:20171106T075528Z
LAST-MODIFIED:20171106T075528Z
UID:4853-1514052000-1514073600@afrohub727.com.au
SUMMARY:Sounds of Garden of Eden
DESCRIPTION:Come join us for Sounds of The Garden of Eden with the many sounds and magic of the African community in Melbourne.  \nHosted and produced by Karima\, a Sudanese-Kiwi Singer\, songwriter and actress. Her artistic journey started with writing poetry later on converting prose into melody. She bounces between the theatre stage\, television (some may know her as Clementine on the popular NZ soap opera Shortland Street) to the recording studio and music stages. \n
URL:https://afrohub727.com.au/event/sounds-of-garden-of-eden/
ATTACH;FMTTYPE=image/jpeg:https://afrohub727.com.au/wp-content/uploads/2017/11/facebook_event_216231412249050.jpg
END:VEVENT
END:VCALENDAR