BEGIN:VCALENDAR
VERSION:2.0
PRODID:-//Afro Hub - A dedicated hub to African talent. - ECPv4.6.18//NONSGML v1.0//EN
CALSCALE:GREGORIAN
METHOD:PUBLISH
X-WR-CALNAME:Afro Hub - A dedicated hub to African talent.
X-ORIGINAL-URL:https://afrohub727.com.au
X-WR-CALDESC:Events for Afro Hub - A dedicated hub to African talent.
BEGIN:VEVENT
DTSTART;TZID=UTC+10:20180422T140000
DTEND;TZID=UTC+10:20180422T180000
DTSTAMP:20190228T100507
CREATED:20180221T214227Z
LAST-MODIFIED:20180221T214227Z
UID:4885-1524405600-1524420000@afrohub727.com.au
SUMMARY:Shangara Jive is coming to Melbourne
DESCRIPTION:Shangara Jive is a 7 piece band that performs a variety of African styles including\, Kwassa Kwassa\, Roots Reggae\, Soka Beat\, Jit\, Chimurenga (Mbira Music) and Soukous. The music takes its influences from traditional Mbira (Thumb piano)\, Drumming and Dancing troupes in Zimbabwe and from many contemporary Chimurenga Music artists including Oliver Mtukudzi\, Thomas Mapfumo and the Black Spirits\, John Chibadura. The music incorporates flavours from other African nations including the Congo and South Africa and percussion styles from Zimbabwe\, Guinea and Senegal.  \nThey are coming across all the way from WA show them how Melbournites get down.  \nTickets will be $15 at the door. If affordability is an issue talk to us. Kids are free! \n
URL:https://afrohub727.com.au/event/shangara-jive-is-coming-to-melbourne/
ATTACH;FMTTYPE=image/jpeg:https://afrohub727.com.au/wp-content/uploads/2018/02/facebook_event_1895609250751108.jpg
END:VEVENT
END:VCALENDAR