BEGIN:VCALENDAR
VERSION:2.0
PRODID:-//Afro Hub - A dedicated hub to African talent. - ECPv4.6.18//NONSGML v1.0//EN
CALSCALE:GREGORIAN
METHOD:PUBLISH
X-WR-CALNAME:Afro Hub - A dedicated hub to African talent.
X-ORIGINAL-URL:https://afrohub727.com.au
X-WR-CALDESC:Events for Afro Hub - A dedicated hub to African talent.
BEGIN:VEVENT
DTSTART;TZID=UTC+11:20180322T183000
DTEND;TZID=UTC+11:20180322T213000
DTSTAMP:20190228T102051
CREATED:20180301T224153Z
LAST-MODIFIED:20180301T224153Z
UID:4897-1521743400-1521754200@afrohub727.com.au
SUMMARY:Poetry Night with MICHA
DESCRIPTION:Nineteen-year-old MICHA is a Zimbabwean born\, Australian raised lyrical-poet hailing from the four corners of her bedrooms. Her love for pen to paper and soul-touching relatable lyrics creates music about love\, heartbreak\, coming-of-age and the undying beauty of being an artist.  \nJust having finished her first EP: GRL\, MICHA will be debuting the Alternative R&B/ poetry project at this months poetry slam exclusively at Afro Hub. \nIn the wake of removing her septum piercing and no longer soul-searching\, MICHA is studying Arts at The University of Melbourne. \nThere are open mic slots register at the door. \nTickets will be $10 at the door. \nhttp://soundcloud.com/blkgrl_micha \n
URL:https://afrohub727.com.au/event/poetry-night-with-micha/
ATTACH;FMTTYPE=image/jpeg:https://afrohub727.com.au/wp-content/uploads/2018/03/facebook_event_1457305894381868.jpg
END:VEVENT
END:VCALENDAR