BEGIN:VCALENDAR
VERSION:2.0
PRODID:-//Afro Hub - A dedicated hub to African talent. - ECPv4.6.18//NONSGML v1.0//EN
CALSCALE:GREGORIAN
METHOD:PUBLISH
X-WR-CALNAME:Afro Hub - A dedicated hub to African talent.
X-ORIGINAL-URL:https://afrohub727.com.au
X-WR-CALDESC:Events for Afro Hub - A dedicated hub to African talent.
BEGIN:VEVENT
DTSTART;TZID=UTC+10:20180721T190000
DTEND;TZID=UTC+10:20180721T220000
DTSTAMP:20190228T100556
CREATED:20180321T044936Z
LAST-MODIFIED:20180321T044936Z
UID:4901-1532199600-1532210400@afrohub727.com.au
SUMMARY:Only Love Can Heal the World Tour
DESCRIPTION:Love Festival Family is all about\, cultivating and promoting the\noriginal & first culture of man `Love `to the entire human race. We have a mandate from God to do so. We do it with Music\, poetry\, arts and storytelling. Love Festival Family is lead by Prophet Michael Dvahyu who also performs as a solo artist.\nA lofty mix of RNB\, soul\, Rap\,reggae and experimental.\nOnly Love can heal the World. \nOpen Mic spots available.\nTickets will be $15 at the door. \n
URL:https://afrohub727.com.au/event/only-love-can-heal-the-world-tour/
ATTACH;FMTTYPE=image/jpeg:https://afrohub727.com.au/wp-content/uploads/2018/03/facebook_event_210658929683690.jpg
END:VEVENT
END:VCALENDAR