BEGIN:VCALENDAR
VERSION:2.0
PRODID:-//Afro Hub - A dedicated hub to African talent. - ECPv4.6.18//NONSGML v1.0//EN
CALSCALE:GREGORIAN
METHOD:PUBLISH
X-WR-CALNAME:Afro Hub - A dedicated hub to African talent.
X-ORIGINAL-URL:https://afrohub727.com.au
X-WR-CALDESC:Events for Afro Hub - A dedicated hub to African talent.
BEGIN:VEVENT
DTSTART;TZID=UTC+11:20171123T183000
DTEND;TZID=UTC+11:20171123T213000
DTSTAMP:20190228T104913
CREATED:20171024T074851Z
LAST-MODIFIED:20171024T074851Z
UID:4849-1511461800-1511472600@afrohub727.com.au
SUMMARY:November Poetry Slam with Melbourne's own Idil Ali
DESCRIPTION:Idil Ali is a Melbourne based Spoken Word artists who thinks she’s alright with words but always struggles with bios. So how good can she really be? Idil believes in the power of using story telling to share spaces and looks forward to sharing her feels with all her current fam and all the potential fam who attend.\n‘Also how weird is third person’\, Idil thinks. \n
URL:https://afrohub727.com.au/event/november-poetry-slam-with-melbournes-own-idil-ali/
ATTACH;FMTTYPE=image/jpeg:https://afrohub727.com.au/wp-content/uploads/2017/10/facebook_event_136547133651666.jpg
END:VEVENT
END:VCALENDAR