BEGIN:VCALENDAR
VERSION:2.0
PRODID:-//Afro Hub - A dedicated hub to African talent. - ECPv4.6.18//NONSGML v1.0//EN
CALSCALE:GREGORIAN
METHOD:PUBLISH
X-WR-CALNAME:Afro Hub - A dedicated hub to African talent.
X-ORIGINAL-URL:https://afrohub727.com.au
X-WR-CALDESC:Events for Afro Hub - A dedicated hub to African talent.
BEGIN:VEVENT
DTSTART;TZID=UTC+11:20180106T190000
DTEND;TZID=UTC+11:20180106T210000
DTSTAMP:20190228T103352
CREATED:20171228T011852Z
LAST-MODIFIED:20171228T011852Z
UID:4869-1515265200-1515272400@afrohub727.com.au
SUMMARY:Ms Millie’s Poetry Cafe Jan
DESCRIPTION:Welcome! To Ms Millie’s Pop Up Poetry cafe!  \nHere …the stage is yours and your audience is sweeter than our sweets! Here we encourage comedians\, poets\, creative writers or singers to come and share their work.  \nIt doesn’t matter if your here to Workshop your work or present a finished piece\, it does not matter\, we just want you to share.  \nJust picture it…  your chilling on some couches\, gathered in a dim room\, incense and To go with that some sweets. \nDecadent chilli Brownies options varying from honey pistachio cheesecake to sweet potato pie\, orange marmalade cake to cherry pie.  \nWhile you’re munching and sipping\, oh… oh… what’s… what’s that?  \nIt’s a performance happening right before you… of the spoken type. \nAn open mic to perform\, Support or to just absorb.  \nAmateurs and the well-seasoned\, urban style spoken word and classical sonnets all on the one stage. Comedians\, creative story teller and performance pieces all welcome!  \nSnaps and snacks y’all and you’ve only spent $10? \nEvery second Saturday of the month we do this\, for real … we do. \nHeld at the amazing Afro Hub  we now have the ability to purchase rich African dishes and desserts. Vegan and gluten free options always available in this kitchen.  \nAll open mic’ers are encouraged to read what ever they like\, the only rule is that it’s not offensive to others no tolerance form racist\, sexist and Xenophobic readings ect.\nMs Millie’s is now held down stairs. \nInbox for a slot once the call is out 😁\nSee y’all there.b \n
URL:https://afrohub727.com.au/event/ms-millies-poetry-cafe-jan/
ATTACH;FMTTYPE=image/jpeg:https://afrohub727.com.au/wp-content/uploads/2017/12/facebook_event_100680364067281.jpg
END:VEVENT
END:VCALENDAR