BEGIN:VCALENDAR
VERSION:2.0
PRODID:-//Afro Hub - A dedicated hub to African talent. - ECPv4.6.18//NONSGML v1.0//EN
CALSCALE:GREGORIAN
METHOD:PUBLISH
X-WR-CALNAME:Afro Hub - A dedicated hub to African talent.
X-ORIGINAL-URL:https://afrohub727.com.au
X-WR-CALDESC:Events for Afro Hub - A dedicated hub to African talent.
BEGIN:VEVENT
DTSTART;TZID=UTC+11:20180113T190000
DTEND;TZID=UTC+11:20180113T230000
DTSTAMP:20190228T103422
CREATED:20171116T043843Z
LAST-MODIFIED:20171116T043843Z
UID:4855-1515870000-1515884400@afrohub727.com.au
SUMMARY:Leila Négrau is vising us from Reunion Island
DESCRIPTION:We are honoured to have Leila back on the Afro Hub stage.  \nLeila NEGRAU is a singer and a percussionist from Reunion Island in the Indian Ocean.  She writes her own songs inspired by the traditional music from the slaves called “Maloya” and “Sega”.  She creates her own style very powerful and sensual at the same time. \nThe singer Leila released many albums called “Jolie Madame” and “OUMASSI” produced and distributed by Sony or EMI and BMG\, in 2011 the new LP “KOULER MALOYA” is born! New songs in live recorded with her band\, drum\, bass\, guitar\, keyboard and percussions\, a woman’s spirit!!\nLeila Negrau in on stage since she is 11 years old\, she started by playing Theater\, then she becomes professional dancer and now she sings and plays percussions expressing her own feelings with music. Her music is mixed with the “Maloya”  “Blues from the Indian Ocean” coming from an old slave spirit of her Island. \nTickets are available on https://www.eventbrite.com.au/e/leila-negrau-is-vising-us-from-reunion-island-tickets-39420949120 \nTIckets at the door will be $20 \n
URL:https://afrohub727.com.au/event/leila-negrau-is-vising-us-from-reunion-island/
ATTACH;FMTTYPE=image/jpeg:https://afrohub727.com.au/wp-content/uploads/2017/11/facebook_event_1574882969263597.jpg
END:VEVENT
END:VCALENDAR