BEGIN:VCALENDAR
VERSION:2.0
PRODID:-//Afro Hub - A dedicated hub to African talent. - ECPv4.6.18//NONSGML v1.0//EN
CALSCALE:GREGORIAN
METHOD:PUBLISH
X-WR-CALNAME:Afro Hub - A dedicated hub to African talent.
X-ORIGINAL-URL:https://afrohub727.com.au
X-WR-CALDESC:Events for Afro Hub - A dedicated hub to African talent.
BEGIN:VEVENT
DTSTART;TZID=UTC+11:20180323T190000
DTEND;TZID=UTC+11:20180323T210000
DTSTAMP:20190228T100322
CREATED:20180226T233917Z
LAST-MODIFIED:20180226T233917Z
UID:4891-1521831600-1521838800@afrohub727.com.au
SUMMARY:Latifa SAID Poc stand up Comedy
DESCRIPTION:POC … we’re absolutely hilarious y’all!?\nSo here it is… a space for us by us\, laughs\, clicks and mmmmmmmm hmmmms.  \nTo add a little pizzaz I’m making y’all sweets sweet potato pie\, pecan pie\, fried donuts\, baklava\, vegan\, non vegan…whateverrrr I got you. Complimentary with entry so you can have as many as you like.  \nNow here’s how it’s going to go\, your going to convince yourself to be the dopeness that you are and work up the courage to sign up OR your going to pressure your hilarious friends to come through and perform. I’m tired of these funny ass people pretending they don’t have the shine. You got it\, do it.  \nNO EXPERIENCE NEEDED\, just come through and do what you do best\, come good with them giggles.  \nOpen mic is reserved primarily for people of colour as this is a platform by us for us but everybody is welcome to come through\, show up and show out!! \n
URL:https://afrohub727.com.au/event/latifa-said-poc-stand-up-comedy/
ATTACH;FMTTYPE=image/jpeg:https://afrohub727.com.au/wp-content/uploads/2018/02/facebook_event_144693456222772.jpg
END:VEVENT
END:VCALENDAR