BEGIN:VCALENDAR
VERSION:2.0
PRODID:-//Afro Hub - A dedicated hub to African talent. - ECPv4.6.18//NONSGML v1.0//EN
CALSCALE:GREGORIAN
METHOD:PUBLISH
X-WR-CALNAME:Afro Hub - A dedicated hub to African talent.
X-ORIGINAL-URL:https://afrohub727.com.au
X-WR-CALDESC:Events for Afro Hub - A dedicated hub to African talent.
BEGIN:VEVENT
DTSTART;TZID=UTC+11:20180127T160000
DTEND;TZID=UTC+11:20180127T200000
DTSTAMP:20190228T103458
CREATED:20171222T023931Z
LAST-MODIFIED:20171222T023931Z
UID:4867-1517068800-1517083200@afrohub727.com.au
SUMMARY:January Poetry Slam with Solli Raphael
DESCRIPTION:Okay January Slam is going to be extra special\, running on a Saturday early evening with a special interstate artist.  \nSo the feature for this month is the first Australian National Poetry Slam Youth champion in 2017\, at the tender age of 12.  \nSolli Raphael is a budding Humanitarian & known as a Game-Changer and a leader among his peers\, Solli enjoys writing powerful and emotive poetry based on his understandings of the world around him. Solli is an eager homeschooling high-school student whose vision is to be an influential person in the hope to create change\, one word at a time.  \nThere will be an open mic slot prior to Solli gracing us with his presence.  \nSo as always lean in a support the artist\, with a crisp $10 at the door. Children under the age 15 will be permitted in for free. If $10 is going to be challenging let us know in advance and we’ll get you on our VIP list. \n
URL:https://afrohub727.com.au/event/january-poetry-slam-with-solli-raphael/
ATTACH;FMTTYPE=image/jpeg:https://afrohub727.com.au/wp-content/uploads/2017/12/facebook_event_133916303952148.jpg
END:VEVENT
END:VCALENDAR