BEGIN:VCALENDAR
VERSION:2.0
PRODID:-//Afro Hub - A dedicated hub to African talent. - ECPv4.6.18//NONSGML v1.0//EN
CALSCALE:GREGORIAN
METHOD:PUBLISH
X-WR-CALNAME:Afro Hub - A dedicated hub to African talent.
X-ORIGINAL-URL:https://afrohub727.com.au
X-WR-CALDESC:Events for Afro Hub - A dedicated hub to African talent.
BEGIN:VEVENT
DTSTART;TZID=UTC+11:20180327T170000
DTEND;TZID=UTC+11:20180327T223000
DTSTAMP:20190228T100414
CREATED:20180321T023812Z
LAST-MODIFIED:20180321T023812Z
UID:4899-1522170000-1522189800@afrohub727.com.au
SUMMARY:Floating Key: Link Up
DESCRIPTION:Floating Key acknowledges that this event takes place on stolen and occupied land of the Wurundjeri people of the Kulin Nations. We recognize Black Indigeneity at the epicenter for which the movement operates. We recognize that sovereignty was never ceded.  \nThis event serves as an opportunity for Bla(c)k and PoC folks within the Floating Key community to reconnect with one another\, share ideas for collaboration\, and the continuance of discourse stimulated from the launch.  \nDuring this event\, we will begin production on our Floating Key video series that will focus on individual responses to discourse surrounding Bla(c)k elevation\, Indigeneity\, and the global context for which they exist and operate. There will also be two photography stalls set for portraits that will be exclusively released to those in attendance.  \nA sound system will be set up for a jam session\, and we welcome musicians and poets to come and workshop new material. Musical acts TBA.  \nSmall bites will be provided at Afro Hub\, however\, we do encourage all in attendance to contribute to their dining experience.  \nWe are blessed to have Ruth Ruach\, Atong Atem\, and Laura Ferdinand on board as our photographers and videographer for the evening. Consent and release forms will be provided at the event for those who are interested in being a part of our video series.  \nThe dates for upcoming Floating Key events will be announced on this evening\, and there will be opportunity for all to be involved if they choose.  \n**Please note that entry is open to Bla(c)k and PoC folks. We ask that non Bla(c)k and PoC folks respect the intention of this event. If you believe any of your Bla(c)k or PoC peers would benefit from the link up\, please do not hesitate to invite them.  \nThere is no charge for attendance. We only ask that you come with the intention of engaging with your peers\, an openness to learn\, and a desire to heal through celebrating us.  \nThe venue is wheelchair accessible. \nPlease email any performance requests or general queries to: thefloatingkey@gmail.com \n
URL:https://afrohub727.com.au/event/floating-key-link-up/
ATTACH;FMTTYPE=image/jpeg:https://afrohub727.com.au/wp-content/uploads/2018/03/facebook_event_139866476844720.jpg
END:VEVENT
END:VCALENDAR