BEGIN:VCALENDAR
VERSION:2.0
PRODID:-//Afro Hub - A dedicated hub to African talent. - ECPv4.6.18//NONSGML v1.0//EN
CALSCALE:GREGORIAN
METHOD:PUBLISH
X-WR-CALNAME:Afro Hub - A dedicated hub to African talent.
X-ORIGINAL-URL:https://afrohub727.com.au
X-WR-CALDESC:Events for Afro Hub - A dedicated hub to African talent.
BEGIN:VEVENT
DTSTART;TZID=UTC+11:20180224T180000
DTEND;TZID=UTC+11:20180224T220000
DTSTAMP:20190228T101945
CREATED:20180130T024909Z
LAST-MODIFIED:20180130T024909Z
UID:4881-1519495200-1519509600@afrohub727.com.au
SUMMARY:Closed for a Private Function
DESCRIPTION:We are closed for a private function. Book in your next private function. \n
URL:https://afrohub727.com.au/event/closed-for-a-private-function-4/
ATTACH;FMTTYPE=image/jpeg:https://afrohub727.com.au/wp-content/uploads/2018/01/facebook_event_198044940778867.jpg
END:VEVENT
END:VCALENDAR