BEGIN:VCALENDAR
VERSION:2.0
PRODID:-//Afro Hub - A dedicated hub to African talent. - ECPv4.6.18//NONSGML v1.0//EN
CALSCALE:GREGORIAN
METHOD:PUBLISH
X-WR-CALNAME:Afro Hub - A dedicated hub to African talent.
X-ORIGINAL-URL:https://afrohub727.com.au
X-WR-CALDESC:Events for Afro Hub - A dedicated hub to African talent.
BEGIN:VEVENT
DTSTART;TZID=UTC+10:20170916T120000
DTEND;TZID=UTC+10:20170917T210000
DTSTAMP:20190228T104721
CREATED:20170810T083833Z
LAST-MODIFIED:20170810T083833Z
UID:4823-1505563200-1505682000@afrohub727.com.au
SUMMARY:Afro Veg Out Festivaln
DESCRIPTION:We are hosting all African Vegetaratian Vegan Festival covering multiple countries within the continent.\nWe will also be hosting a Sunday Jam\, an award winning pop up retailers and hosting a free coffee ceremony on Saturday\nStall holders will be announced as \n
URL:https://afrohub727.com.au/event/afro-veg-out-festivaln/
ATTACH;FMTTYPE=image/jpeg:https://afrohub727.com.au/wp-content/uploads/2017/08/facebook_event_330123737400155.jpg
END:VEVENT
END:VCALENDAR