BEGIN:VCALENDAR
VERSION:2.0
PRODID:-//Afro Hub - A dedicated hub to African talent. - ECPv4.6.18//NONSGML v1.0//EN
CALSCALE:GREGORIAN
METHOD:PUBLISH
X-WR-CALNAME:Afro Hub - A dedicated hub to African talent.
X-ORIGINAL-URL:https://afrohub727.com.au
X-WR-CALDESC:Events for Afro Hub - A dedicated hub to African talent.
BEGIN:VEVENT
DTSTART;TZID=UTC+10:20170921T183000
DTEND;TZID=UTC+10:20170921T210000
DTSTAMP:20190228T104737
CREATED:20170905T015605Z
LAST-MODIFIED:20170905T015605Z
UID:4835-1506018600-1506027600@afrohub727.com.au
SUMMARY:Afro Hub Poetry Slam with Jack Sheppard
DESCRIPTION:Photographer Ali MC \nJack Sheppard is of the Kurtjar clan of the Gulf of Carpentaria\, North QLD. He is an artist driven by his culture\, spirituality\, and humanity. Jack studied at Naisda Dance College and WAAPA’s Aboriginal Theatre Course. He works and creates in the artistic elements of movement\, circus\, theatre and physical theatre. Jack has written one short play\, ‘Monsson’\, has had his poetry published in Rabbit Poetry Magazine – The Indigenous Issue\, and The Australian Poetry Journal. \nDoors open at 6.30pm. \nTickets $10 at the door \n
URL:https://afrohub727.com.au/event/afro-hub-poetry-slam-with-jack-sheppard/
ATTACH;FMTTYPE=image/jpeg:https://afrohub727.com.au/wp-content/uploads/2017/09/facebook_event_348261892280211.jpg
END:VEVENT
END:VCALENDAR