BEGIN:VCALENDAR
VERSION:2.0
PRODID:-//Afro Hub - A dedicated hub to African talent. - ECPv4.6.18//NONSGML v1.0//EN
CALSCALE:GREGORIAN
METHOD:PUBLISH
X-WR-CALNAME:Afro Hub - A dedicated hub to African talent.
X-ORIGINAL-URL:https://afrohub727.com.au
X-WR-CALDESC:Events for Afro Hub - A dedicated hub to African talent.
BEGIN:VEVENT
DTSTART;TZID=UTC+11:20180308T183000
DTEND;TZID=UTC+11:20180308T213000
DTSTAMP:20190228T102016
CREATED:20180224T134527Z
LAST-MODIFIED:20180224T134527Z
UID:4887-1520533800-1520544600@afrohub727.com.au
SUMMARY:Afro Hub Poetry Slam featuring ziimusic
DESCRIPTION:This month we are hosting one of Melbourne’s newest poets ZIIMUSIC.  \nZIIMUSIC\, one word all caps\, is best described as a creative expressing the colours that life shows him. Having been pigeon holed in the genre of hip hop\, this poetry slam will be an extension of ZIIMUSIC’s creativity. In the lead up to his highly anticipated project ‘Me Love and Everything In Between’\, ZIIMUSIC will showcase some of the stories and poetry that inspired the piece of art.  \nZIIMUSIC acknowledges that this event will be held on the stolen lands of the Wurundjeri people of the Kulin Nations. I acknowledge all First Nations people who continue to practice language and culture in these times and pay my respects to elders past\, present\, and future. \nhttp://ziimusic.com\nhttp://facebook.com/ziimusic\nhttp://instagram.com/ziimusic \nTickets will be $10 at the door.\n– Open Mic Spots available. \n
URL:https://afrohub727.com.au/event/afro-hub-poetry-slam-featuring-ziimusic/
ATTACH;FMTTYPE=image/jpeg:https://afrohub727.com.au/wp-content/uploads/2018/02/facebook_event_169377407036164.jpg
END:VEVENT
END:VCALENDAR