BEGIN:VCALENDAR
VERSION:2.0
PRODID:-//Afro Hub - A dedicated hub to African talent. - ECPv4.6.18//NONSGML v1.0//EN
CALSCALE:GREGORIAN
METHOD:PUBLISH
X-WR-CALNAME:Afro Hub - A dedicated hub to African talent.
X-ORIGINAL-URL:https://afrohub727.com.au
X-WR-CALDESC:Events for Afro Hub - A dedicated hub to African talent.
BEGIN:VEVENT
DTSTART;TZID=UTC+11:20180128T180000
DTEND;TZID=UTC+11:20180128T210000
DTSTAMP:20190228T101839
CREATED:20180112T024404Z
LAST-MODIFIED:20180112T024404Z
UID:4873-1517162400-1517173200@afrohub727.com.au
SUMMARY:Afro Hub Poetry Slam featuring one of our favs Tenda McFly
DESCRIPTION:We are having one of Melbourne’s faves\, Tenda McFly\, featuring in this month’s poetry slam.  \nTenda McFly is best described as an amalgamation of hip-hop and spoken word poetry. He recently released a project titled Memoirs and subsequently presented it to a sold-out audience in a format which encompassed elements of theater\, spoken word\, rap and visual art. In the past\, he has opened for The Game\, Lloyd and has been on the bill for a number of notable QLD & VIC music festivals. As a spoken word poet\, Tenda has also performed as a TEDx Speaker at 3 different events. His material manages to pass as carefree and fun whilst being mesmerizing and thought-provoking. There is an accessible youthful intelligence here that is both representative of his life experience and his generation. Tenda is also a member of Band of Brothaz & the collective\, NoA. \nTickets will be $10 at the door. \n
URL:https://afrohub727.com.au/event/afro-hub-poetry-slam-featuring-one-of-our-favs-tenda-mcfly/
ATTACH;FMTTYPE=image/jpeg:https://afrohub727.com.au/wp-content/uploads/2018/01/facebook_event_972137626268995.jpg
END:VEVENT
END:VCALENDAR